BEGIN:VCALENDAR
VERSION:2.0
PRODID:-//Tukios.com/
BEGIN:VEVENT
UID:03cc3280-a109-4743-8f4e-420a7e6bba6c@www.foxfh.com
DTSTAMP:20260420T225750Z
DTSTART:20260425T000000Z
DTEND:20260425T020000Z
SUMMARY:Viewing
DESCRIPTION:
URL:https://www.foxfh.com/obituaries/thomas-tom-mora
LOCATION: 2800 Commercial Way  Rock Springs WY 82901
GEO:41.583819;-109.253208
END:VEVENT
END:VCALENDAR