BEGIN:VCALENDAR
VERSION:2.0
PRODID:-//Tukios.com/
BEGIN:VEVENT
UID:fe92a38a-2a07-4dcf-8963-b8d9d5adaf43@www.foxfh.com
DTSTAMP:20260420T225822Z
DTSTART:20260425T170000Z
DTEND:20260425T180000Z
SUMMARY:Funeral Service
DESCRIPTION:
URL:https://www.foxfh.com/obituaries/thomas-tom-mora
LOCATION:The First Assembly of God Church 1380 Hitching Post Drive  Green 
	River WY 82935
GEO:41.5036632;-109.4634468
END:VEVENT
END:VCALENDAR